BEGIN:VCALENDAR
VERSION:2.0
PRODID:-//eventon.com NONSGML v1.0//EN
CALSCALE:GREGORIAN
METHOD:PUBLISH
BEGIN:VEVENT
UID:69ebbbe23a42a
DTSTAMP:20260424T185218Z
DTSTART:20251206T100000Z
DTEND:20251207T170000Z
LOCATION:My Sportlady Studio Klenzestrasse 57b
SUMMARY:SNR 1 - 2. Ausbildungswochenende
DESCRIPTION:mit Kathrin Ohnsorge Anmeldung und Information: Hari Sadhana Ka
 ur hari.sadhana@snr-muenchen.de &nbsp;\nhttps://snr-muenchen.de/events/__tr
 ashed-2-2/
URL:https://snr-muenchen.de/events/__trashed-2-2/
END:VEVENT
END:VCALENDAR