BEGIN:VCALENDAR
VERSION:2.0
PRODID:-//eventon.com NONSGML v1.0//EN
CALSCALE:GREGORIAN
METHOD:PUBLISH
BEGIN:VEVENT
UID:69eba8dfcec8e
DTSTAMP:20260424T173111Z
DTSTART:20251018T100000Z
DTEND:20251019T170000Z
LOCATION:My Sportlady Studio Klenzestrasse 57b
SUMMARY:SNR 1 - Beginn der neuen Ausbildung
DESCRIPTION:mit Ambrosio Espinosa Anmeldung und Information: Hari Sadhana K
 aur hari.sadhana@snr-muenchen.de &nbsp;\nhttps://snr-muenchen.de/events/__t
 rashed-2/
URL:https://snr-muenchen.de/events/__trashed-2/
END:VEVENT
END:VCALENDAR