BEGIN:VCALENDAR
VERSION:2.0
PRODID:-//eventon.com NONSGML v1.0//EN
CALSCALE:GREGORIAN
METHOD:PUBLISH
BEGIN:VEVENT
UID:69eb913246970
DTSTAMP:20260424T155010Z
DTSTART:20250830T100000Z
DTEND:20250831T170000Z
LOCATION:St. Joseph Josephsplatz 1 (links vom Haupteingang zur Kirche)
SUMMARY:SNR Intensiv - mit Sadhu Singh
DESCRIPTION:mit Sadhu Singh als Anleiter. Weitere Einzelheiten &lt;a href=h
 ttps://snr-muenchen.de/ausbildungen/#tab-id-3&gt;hier&lt;/a&gt;. &nbsp; Nur
  mit Anmeldung bei &lt;a href=&#8221;mailto:gertrud_burger@web.de&#8221;&gt
 ;Gertrud&lt;/a&gt; keine Übungsklienten Kirchenstiftung St. Joseph Josephs
 platz 1 (links vom Haupteingang zur Kirche) 80798 München\nhttps://snr-mue
 nchen.de/events/snr-intensiv-mit-sadhu-singh-5/
URL:https://snr-muenchen.de/events/snr-intensiv-mit-sadhu-singh-5/
END:VEVENT
END:VCALENDAR